BEGIN:VCALENDAR
VERSION:2.0
PRODID:-//Kodály Australia - ECPv6.15.17.1//NONSGML v1.0//EN
CALSCALE:GREGORIAN
METHOD:PUBLISH
X-ORIGINAL-URL:https://kodaly.org.au
X-WR-CALDESC:Events for Kodály Australia
REFRESH-INTERVAL;VALUE=DURATION:PT1H
X-Robots-Tag:noindex
X-PUBLISHED-TTL:PT1H
BEGIN:VTIMEZONE
TZID:Australia/Brisbane
BEGIN:STANDARD
TZOFFSETFROM:+1000
TZOFFSETTO:+1000
TZNAME:AEST
DTSTART:20250101T000000
END:STANDARD
END:VTIMEZONE
BEGIN:VTIMEZONE
TZID:Australia/Perth
BEGIN:STANDARD
TZOFFSETFROM:+0800
TZOFFSETTO:+0800
TZNAME:AWST
DTSTART:20250101T000000
END:STANDARD
END:VTIMEZONE
BEGIN:VEVENT
DTSTART;TZID=Australia/Brisbane:20260508T080000
DTEND;TZID=Australia/Brisbane:20260508T160000
DTSTAMP:20260420T204759
CREATED:20260410T214102Z
LAST-MODIFIED:20260410T221619Z
UID:8704-1778227200-1778256000@kodaly.org.au
SUMMARY:Open Classrooms with Dr Anthony Young
DESCRIPTION:2026 Kodaly WA Open Classrooms with Dr Anthony Young – Kodály-inspired teaching in action! \nOn Friday May 8\, Dr Anthony Young will visit several schools across the Perth metropolitan area to deliver music classes with students across a range of year groups in an open classroom format. \nMembers of Kodály WA will be able to observe these sessions and participate in a facilitated discussion with Dr Young following each event.  \nKodaly WA invites members to submit an expression of interest if they would like their school or student group to be involved in this event. Please email all expressions of interest to wa@kodaly.org.au.  \nDr Anthony Young  \nDr Anthony Young is Head of Classroom Music at St. Laurence’s College in South Brisbane. The college has a strong male community singing tradition\, supported by 7 choirs involving 240 singers aged from 10 to 17 and taught by a team of highly accomplished and generous teachers. His research doctorate in Music Education examined the participation of boys in a Kodaly based music education program. He holds a Masters in Music Studies (choral conducting)\, an Australian Kodaly Certificate\, an Arts degree in literature\, and a Law degree. A recipient of the Queensland College of Teachers Excellence in Teaching award\, Anthony serves the QCAA as a Lead Endorser\, Lead Confirmer and Lead External Examiner. He has contributed to books on Music Education and Choral Conducting published by ACER\, Springer publications and Oxford University Press. Anthony lectures in musicianship for the University of Queensland and is in demand as a choral conductor internationally in school\, community\, festival\, and liturgical settings. 
URL:https://kodaly.org.au/event/open-classrooms-with-dr-anthony-young/
CATEGORIES:Free Events,WA Events
END:VEVENT
BEGIN:VEVENT
DTSTART;VALUE=DATE:20260706
DTEND;VALUE=DATE:20260711
DTSTAMP:20260420T204759
CREATED:20260222T085410Z
LAST-MODIFIED:20260326T015738Z
UID:8637-1783296000-1783727999@kodaly.org.au
SUMMARY:WA: Australian Kodály Certificate Course 2026
DESCRIPTION:In 2026\, Perth is hosting a full Australian Kodály Certificate Course. Register now! \n \nHeld over two blocks delivered across the term 1 and term 2 school holidays\, a Primary and Secondary Level 1\, 2 and 3 certification course will be offered in Perth during 2026. \nSuccessful completion will allow participants to fulfil the requirements of the Australian Kodály Certificate. \nDates:\nBlock 1 (5 days):       Tuesday 7 April to Saturday 11 April 2026.\nBlock 2 (5 days):       Monday 6 July to Friday 10 July 2026. \n*Participants must complete the full 10 days to be awarded their Certificate. \nLecturers: Jason Boron (WA)\, Celia Christmass (WA)\, Stephanie Eaton (Qld/SA)\, Tess Laird (QLD) Kimberley Lloyd (WA)\, Andrew Pennay (Qld)\, Hilary Price (WA)\, and Rosalie Scott (WA) \nVenue: Perth Modern School\, 90 Roberts Road\, SUBIACO\, WA 6008 \n\n\n\n\n\n\n\nView the Course Brochure here \nRegister Now \n\n\n\n\nPre-service educators are most welcome to attend at significantly subsidised registration rates. Course dates fall within the university’s non-teaching periods. Full-details in Course Brochure. \nOther Information: \nRegistered Participant Information \nThis online folder contains useful information\, including:  \n\nText book list (both required and recommended)\nMusicianship and conducting class placement guide\nSong materials packs \nCancellation Policy\n\nFor more information\, please contact the Kodaly WA President\, Rebecca de Haan or the AKC Course Coordinator\, Jason Boron\, using the details below. \nakcwa@kodaly.org.au
URL:https://kodaly.org.au/event/wa-australian-kodaly-certificate-course-2026-block-2/
LOCATION:Private: Perth Modern School\, 90 Roberts Road\, Subiaco\, WA\, 6008\, Australia
CATEGORIES:AKC Courses,WA Events
ORGANIZER;CN="Kod%C3%A1ly WA Branch":MAILTO:wa@kodaly.org.au
END:VEVENT
END:VCALENDAR