BEGIN:VCALENDAR
VERSION:2.0
PRODID:-//Kodály Australia - ECPv6.15.17.1//NONSGML v1.0//EN
CALSCALE:GREGORIAN
METHOD:PUBLISH
X-WR-CALNAME:Kodály Australia
X-ORIGINAL-URL:https://kodaly.org.au
X-WR-CALDESC:Events for Kodály Australia
REFRESH-INTERVAL;VALUE=DURATION:PT1H
X-Robots-Tag:noindex
X-PUBLISHED-TTL:PT1H
BEGIN:VTIMEZONE
TZID:Australia/Brisbane
BEGIN:STANDARD
TZOFFSETFROM:+1000
TZOFFSETTO:+1000
TZNAME:AEST
DTSTART:20190101T000000
END:STANDARD
END:VTIMEZONE
BEGIN:VTIMEZONE
TZID:Australia/Sydney
BEGIN:STANDARD
TZOFFSETFROM:+1100
TZOFFSETTO:+1000
TZNAME:AEST
DTSTART:20190406T160000
END:STANDARD
BEGIN:DAYLIGHT
TZOFFSETFROM:+1000
TZOFFSETTO:+1100
TZNAME:AEDT
DTSTART:20191005T160000
END:DAYLIGHT
BEGIN:STANDARD
TZOFFSETFROM:+1100
TZOFFSETTO:+1000
TZNAME:AEST
DTSTART:20200404T160000
END:STANDARD
BEGIN:DAYLIGHT
TZOFFSETFROM:+1000
TZOFFSETTO:+1100
TZNAME:AEDT
DTSTART:20201003T160000
END:DAYLIGHT
BEGIN:STANDARD
TZOFFSETFROM:+1100
TZOFFSETTO:+1000
TZNAME:AEST
DTSTART:20210403T160000
END:STANDARD
BEGIN:DAYLIGHT
TZOFFSETFROM:+1000
TZOFFSETTO:+1100
TZNAME:AEDT
DTSTART:20211002T160000
END:DAYLIGHT
END:VTIMEZONE
BEGIN:VTIMEZONE
TZID:Australia/Perth
BEGIN:STANDARD
TZOFFSETFROM:+0800
TZOFFSETTO:+0800
TZNAME:AWST
DTSTART:20190101T000000
END:STANDARD
END:VTIMEZONE
BEGIN:VEVENT
DTSTART;TZID=Australia/Brisbane:20201122T173000
DTEND;TZID=Australia/Brisbane:20201122T180000
DTSTAMP:20260421T021711
CREATED:20191128T121403Z
LAST-MODIFIED:20200927T151322Z
UID:4166-1606066200-1606068000@kodaly.org.au
SUMMARY:QLD: 2020 Annual General Meeting
DESCRIPTION:Kodály Music Education Institute of Australia Queensland Branch Incorporated \nAnnual General Meeting \nSunday 22nd November\n  \nMembers are invited by the Branch Committee of the Kodály Music Education Institute of Australia Queensland Branch Incorporated (KMEIA QLD Inc) to attend the 2020 Annual General Meeting (AGM) of the Branch. It will be held directly after a webinar featuring Lucinda Geoghegan  Ponder\, pivot and play on  \nDate:               Sunday 22nd November 2020 \nTime:               5.30pm – 6.00pm  (AEST) \nVenue:             Online via ZOOM \nCost:               Annual General Meeting  – FREE  \nTo Register CLICK HERE
URL:https://kodaly.org.au/event/qld-2020-annual-general-meeting/
LOCATION:Online\, Australia
CATEGORIES:Online Events,QLD Events
END:VEVENT
BEGIN:VEVENT
DTSTART;TZID=Australia/Brisbane:20201122T160000
DTEND;TZID=Australia/Brisbane:20201122T173000
DTSTAMP:20260421T021711
CREATED:20200927T152025Z
LAST-MODIFIED:20200927T152526Z
UID:4883-1606060800-1606066200@kodaly.org.au
SUMMARY:QLD - Ponder\, pivot and play on with Lucinda Geoghegan
DESCRIPTION:In these challenging times we need to keep the music going however we can. Take time with Lucinda to consider the year that has been and the changes we have made and continue to make so that the joy in music making and learning can continue. \nLucinda will share some of her reflections\, changes and some great ideas for your classrooms. \nCost: $20 KMEIA Members / $90 Non Members (includes 12 months membership) \nTo register CLICK HERE \n\n\n\n\n\n\n\n\n\n\n\n\n\n\n\nIf you can attend on the day\, you will receive a Zoom invitation with the meeting link and password prior to the webinar.  \nIf you cannot attend on the day\, please register for the recording only  and you will be emailed the link and the certificate a few days after the webinar.
URL:https://kodaly.org.au/event/qld-ponder-pivot-and-play-on-with-lucinda-geoghegan/
CATEGORIES:Online Events,QLD Events
END:VEVENT
BEGIN:VEVENT
DTSTART;VALUE=DATE:20201120
DTEND;VALUE=DATE:20201121
DTSTAMP:20260421T021711
CREATED:20200927T124413Z
LAST-MODIFIED:20200927T124630Z
UID:4869-1605830400-1605916799@kodaly.org.au
SUMMARY:ACT: Annual General Meeting
DESCRIPTION:Following the success of the Virtual Summit\, please join us for the Kodály ACT Annual General Meeting which will be held online. Specific details will be advised closer to the time.
URL:https://kodaly.org.au/event/act-annual-general-meeting-2/
LOCATION:Online\, Australia
CATEGORIES:ACT Events,Online Events
ORGANIZER;CN="Kod%C3%A1ly ACT Branch":MAILTO:act@kodaly.org.au
END:VEVENT
BEGIN:VEVENT
DTSTART;TZID=Australia/Sydney:20201115T100000
DTEND;TZID=Australia/Sydney:20201115T113000
DTSTAMP:20260421T021711
CREATED:20201017T061532Z
LAST-MODIFIED:20201017T080210Z
UID:4923-1605434400-1605439800@kodaly.org.au
SUMMARY:Move It! Move It! Move It! - a workshop with Dr John Feierabend
DESCRIPTION:Kodály NSW is excited to announce that Dr John Feierabend will be hosting our final Professional Development for the year! \n\n\n\n\nDr Feierabend is considered a world leading expert in music and movement development. He is passionate about developing all individuals to be tuneful\, beatful\, and artful. Through his teachings and research\, Dr Feierabend has developed two music methods – First Steps in Music for early childhood – early primary\, and Conversational Solfege – a music literacy program for primary and high school students.\n\n\n\nDue to the dynamic flux of Music education this year in NSW and the current constraints to singing\, we have decided a Movement workshop would be ideal to upskill us all for the future. In this workshop\, participants will learn about Dr Feierabend’s approach to movement\, including Movement Exploration\, Movement for Form and Expression (also known as Move Its) and Beat Motions with Classical Music. Please see GIA Publications website for more information about Dr Feierabend\nhttps://www.giamusic.com/music_education/johnfeierabend-main.cfm \nA number of members of our Kodály Committee have studied directly with Dr Feierabend\, and have found his workshops and courses to be highly engaging and inspiring. This is an opportunity not to be missed! \nWe warmly welcome NSW members to stay for the Kodály NSW AGM that will follow directly after this workshop. \nDate: Sunday 15 November 2020\nPresenter: Dr John Feierabend\nVenue: via Zoom (link will be provided when you register)\nTime: 10.00am – 11.30am (Sydney time) \nCOST  \nMembers: $20\nNon-members: $90 (includes 1 year membership)\nStudents: $10 (Students must be members to attend at this rate: join for FREE at www.kodaly.org.au/membership) \nBecome a member at www.kodaly.org.au/membership\nEnquiries: nsw@kodaly.org.au \nCLICK HERE to REGISTER
URL:https://kodaly.org.au/event/move-it-move-it-move-it-a-workshop-with-dr-john-feierabend/
LOCATION:Online via Zoom
CATEGORIES:National Events,NSW Events,Online Events
END:VEVENT
BEGIN:VEVENT
DTSTART;TZID=Australia/Brisbane:20201114T150000
DTEND;TZID=Australia/Brisbane:20201114T180000
DTSTAMP:20260421T021711
CREATED:20200927T075600Z
LAST-MODIFIED:20201014T065141Z
UID:4836-1605366000-1605376800@kodaly.org.au
SUMMARY:VIC: Including First Nations Perspectives in the Music Room
DESCRIPTION:Including First Nations Perspectives in the Music Room\nIan Harrison Memorial Workshop \nSaturday 14th November at 3pm \nOnline workshop – full details here. \nRegistrations NOW OPEN on our website here
URL:https://kodaly.org.au/event/vic-big-kodaly-day-2020/
LOCATION:Online\, Australia
CATEGORIES:Online Events,VIC Events
ORGANIZER;CN="Kod%C3%A1ly Vic":MAILTO:vic@kodaly.org.au
END:VEVENT
BEGIN:VEVENT
DTSTART;TZID=Australia/Brisbane:20201110T193000
DTEND;TZID=Australia/Brisbane:20201110T203000
DTSTAMP:20260421T021711
CREATED:20200927T075254Z
LAST-MODIFIED:20201014T063541Z
UID:4831-1605036600-1605040200@kodaly.org.au
SUMMARY:VIC: Kodály Vic AGM 2020
DESCRIPTION:Members are invited to attend the Kodály Vic (KMEIA Vic Branch) AGM on Tuesday 10th November at 7.30pm. Full details available on our website here.
URL:https://kodaly.org.au/event/vic-kodaly-vic-agm-2020/
LOCATION:Online\, Australia
CATEGORIES:Online Events,VIC Events
ORGANIZER;CN="Kod%C3%A1ly Vic":MAILTO:vic@kodaly.org.au
END:VEVENT
BEGIN:VEVENT
DTSTART;TZID=Australia/Brisbane:20201107T115000
DTEND;TZID=Australia/Brisbane:20201107T122000
DTSTAMP:20260421T021711
CREATED:20191123T093508Z
LAST-MODIFIED:20201023T071104Z
UID:4067-1604749800-1604751600@kodaly.org.au
SUMMARY:WA: Annual General Meeting
DESCRIPTION:Preliminary Notice of Annual General Meeting\nKodály Music Education Institute of Australia Western Australian Branch Inc. \n11:50am\, Saturday 7 November 2020 \nVenue: Online via Zoom Video Conferencing Software \nRegistration: CLICK HERE to register your attendance if you will NOT be attending the Spring into Kodály event \nMembers are invited by the Branch Committee of the Kodály Music Education Institute of Australia Western Australian Branch Incorporated (KMEIA WA Inc) to attend the 2020 Annual General Meeting (AGM) of the Branch. \nThe next notice to members will include the Agenda\, the President’s Report\, the Treasurer’s Financial Statement and the Auditor’s Report. \nThe annual elections for committee positions will be held at the AGM. All positions will be declared vacant\, including President (Chairperson)\, Vice President (Vice-Chairperson)\, Secretary\, Treasurer and Ordinary Committee Members. We would like to remind our members that the committee meetings can be facilitated via Skype\, and so distance need not be an issue for you to join. Nominations can be submitted digitally to wa@kodaly.org.au by filling out and scanning the Nomination Form. \nPlease note\, this event is held during the 2020 Spring into Kodály event.
URL:https://kodaly.org.au/event/wa-annual-general-meeting-4/
LOCATION:Online\, Australia
CATEGORIES:Online Events,WA Events
ORGANIZER;CN="Kod%C3%A1ly WA Branch":MAILTO:wa@kodaly.org.au
END:VEVENT
BEGIN:VEVENT
DTSTART;VALUE=DATE:20201107
DTEND;VALUE=DATE:20201108
DTSTAMP:20260421T021711
CREATED:20191123T093321Z
LAST-MODIFIED:20201101T080741Z
UID:4065-1604707200-1604793599@kodaly.org.au
SUMMARY:WA: Spring into Kodály 2020
DESCRIPTION:Spring into Kodály 2020\nOnline PD Event\n#GETYOURSOLFAONTHESOFA \nJoin us for a one-day online Professional Development smorgasbord!\nFeaturing local and international presenters\, this music education professional development has something for everyone and is suitable for all levels of Kodály experience. \nSaturday 7 November 2020\, 9am – 1pm\n\nClick here to download the Event Flyer \nClick here to view the Timetable \nClick here to view the Presenter Bios and Session Abstracts \nRegister Now!\nKey Presenters: Maree Hennessy (USA) & Jennifer Gillan (VIC)\n \nMaree Hennessy\nDirector Kodaly Center\nHoly Names University\, USA \nMaree Hennessy is the Director of the Kodaly Centre at Holy Names University\, California. Originally from Australia\, Maree has worked in music education across sectors and age groups\, early childhood\, school\, university and community settings. Maree has a particular interest in and commitment to teacher development. Maree holds a Master of Music Studies (University of Queensland)\, Bachelor of Education (Queensland University of Technology) and the Australian Kodály Certificate (KMEIA). \n \nJennifer Gillan\nMusic Educator\nVictorian College of the Arts\, Australia \nJennifer Gillan has worked in London and studied in Hungary at the Kodály Institute\, majoring in advanced conducting. She holds a Master of Music Studies (UQ)\, has taught musicianship at all levels of education\, early childhood to tertiary\, and has conducted many choirs. She is an experienced examiner and currently teaches at the Victorian College of the Arts Secondary School and St Michael’s Grammar School in Melbourne. \nDate: Saturday 7 November 2020 \nVenue: Online via Zoom on your so(l)fa. Links and information will be emailed to registered participants. \nTime: 9.00am to 1.00pm\, Western Standard Time. \nTimetable: Click here to view Timetable \nPlease note the Branch Annual General Meeting (AGM) will be held during Spring into Kodály commencing at 11.50am. \nRegistration Information \nRegister Now!\nCost: Registration is only $20 for Members. Pre-service teacher members may attend for free (see below). \nMembership lapsed or not currently a member? No problem! Ordinary membership is $70 (or free for tertiary pre-service educators) and can be processed online. Additional information\, including full timetable are available for download on our website. \nAttention Pre-Service Educators \nKodály WA is committed to supporting the next generation of music educators. As such\, pre-service educators who are current tertiary student members will be able to attend at no cost. This is a fantastic opportunity for some seriously good quality professional learning with highly regarded Australian educators. Remember too to invite your friends along as Kodály Australia currently offers free tertiary student membership. \nCall for Presenters – We Want You! \nThe call for presentations has now closed. \nIn addition to our amazing international and interstate presenters\, we are encouraging our incredible WA Kodaly Australia members to present! Respond to the call for presenters for Spring into Kodály by clicking here. Do not be put off by the application process – it is just a few words. We want to hear all about your work you are doing in your school. Remember something that seems small and insignificant to you could really change and inspire others!\nApplications Close Monday 26 October 5pm. Late applications cannot be accepted.
URL:https://kodaly.org.au/event/wa-spring-into-kodaly-2020/
CATEGORIES:Online Events,WA Events
ATTACH;FMTTYPE=image/png:https://www.kodaly.org.au/wp-content/uploads/2019/11/SIK-Logo-2020.png
ORGANIZER;CN="Kod%C3%A1ly WA Branch":MAILTO:wa@kodaly.org.au
END:VEVENT
BEGIN:VEVENT
DTSTART;TZID=Australia/Brisbane:20200928T083000
DTEND;TZID=Australia/Brisbane:20200928T154500
DTSTAMP:20260421T021711
CREATED:20200825T125031Z
LAST-MODIFIED:20200927T124730Z
UID:4783-1601281800-1601307900@kodaly.org.au
SUMMARY:Kodály Australia Virtual Summit
DESCRIPTION:Join fellow educators throughout the world for a day of inspiring online presentations\, practical workshops and engaging discussions led by internationally renowned leaders. Access the Virtual Summit here: https://kodaly.org.au/virtualsummit/\n \nTo Sustain the Vision until we can physically meet again in 2022\, we have put together a program which includes Keynote Presentations from Dr Árpád Tóth\, Dr Anita Collins and Dr László Norbert Nemes along with workshops and Q and A sessions presented by each state as well as live and recorded presentations from our guest choirs. \nFull Program Information is here: http://kodalynationalconference.org.au/program/ \nThe cost for the day is $20 for members and $90 for non Members (including 1 year membership) – Bookings are now open here: https://www.trybooking.com/book/event?eid=645809& \nRemember to pass the word around and help us make this day a wonderful day of connection with colleagues! There is a link here (https://mcusercontent.com/4afd3c18d2748f9307fb48dc1/files/bad89d46-1ddb-4c13-a82d-41b753aaa4a3/Flyer_Virtual_Summit.pdf) to help you promote this as well!
URL:https://kodaly.org.au/event/kodaly-australia-virtual-summit/
LOCATION:Online\, Australia
CATEGORIES:ACT Events,International Events,National Events,Online Events
ATTACH;FMTTYPE=image/jpeg:https://www.kodaly.org.au/wp-content/uploads/2020/08/banner.jpg
ORGANIZER;CN="Kod%C3%A1ly ACT Branch":MAILTO:act@kodaly.org.au
END:VEVENT
BEGIN:VEVENT
DTSTART;TZID=Australia/Brisbane:20200905T090000
DTEND;TZID=Australia/Brisbane:20200905T103000
DTSTAMP:20260421T021711
CREATED:20200826T094336Z
LAST-MODIFIED:20200927T124750Z
UID:4796-1599296400-1599301800@kodaly.org.au
SUMMARY:2020 QLD Webinar - Singing Games for Older Students and Scaffolding Instruction in the Kodály Classroom with Tanya LeJeune
DESCRIPTION:How can we keep them singing? Older students in the music classroom need different motivation than the younger grades. Music educators aim to build the musical skills of students by exposing them to many different songs. Join us virtually as we explore engaging songs\, games\, and activities specifically for older students. We will also discuss scaffolding student learning and how to  design a step-by-step process to ensure that students are able to learn the material and sharpen their musical understandings. \nDate:  5th September 2020\nStart time: 9.00am (AEST)\nEnd time: 10.30am (AEST) \nCost: $20 Members rate  / $90 Non member rate (includes 12 months membership) \nYou can register to attend on the day or purchase a recording only. \nTo register CLICK HERE \nTanya LeJeune Bio: \nTanya LeJeune lives in Denver\, Colorado and has taught elementary music for 25 years. She has taught K– 8th grade general music in Jefferson County Public Schools in Colorado\, and serves as a Kodály instructor of pedagogy and folksong analysis at the Colorado Kodály Institute at Colorado State University. Tanya serves on the Elementary Music Curriculum Advisory Committee and is the music teacher mentor for Jeffferson County Public Schools. Tanya is past president of ROCKE\, the Colorado Kodály chapter\, and has served as Member at Large for OAKE\, the Organization of American Kodály Educators. She has presented music education workshops and in-services for several school districts\, universities\, and Orff and Kodály chapters throughout the United States. Tanya’s most recent endeavor is the general music education podcast Music Teacher Coffee Talk she hosts with friend and colleague Carrie Nicholas.\n 
URL:https://kodaly.org.au/event/2020-qld-webinar-singing-games-for-older-students-and-scaffolding-instruction-in-the-kodaly-classroom-with-tanya-lejeune/
CATEGORIES:Online Events,QLD Events
ORGANIZER;CN="Kod%C3%A1ly QLD Branch":MAILTO:info@kodalyqld.org.au
END:VEVENT
BEGIN:VEVENT
DTSTART;TZID=Australia/Perth:20200810T180000
DTEND;TZID=Australia/Perth:20200824T190000
DTSTAMP:20260421T021711
CREATED:20200805T093517Z
LAST-MODIFIED:20200927T124825Z
UID:4713-1597082400-1598295600@kodaly.org.au
SUMMARY:WA: Term 3 Online PD Series
DESCRIPTION:TeachMe/TeachMeet Online PD Series\nTwo Online Lectures (pd in your pjs) followed by an Online Networking Session (let’s chat – BYO cuppa) to debrief the ideas presented.\nFree event for Kodály Members\nBecome a member today!\n\nThis three-session series provides you with the opportunity to learn new ideas from leading music educators (TeachMe!) and the discuss the application of ideas in your context (TeachMeet!). PD beamed right to your so-fa! \nSession 1: Spotlight on Secondary\nwith Andrew Pennay\n10 August 6-7pm (AWST)\nSession 2: Spotlight on Primary\nwith Kate Tyson\n17 August 6-7pm (AWST) \nSession 3: Spotlight on YOU!\nfacilitated by Peter Shanhun and Hayley Burns\n24 August 6-7pm (AWST)\nSession 3 will be an opportunity to chat about the ideas presented in session 1 and 2. Ask questions\, compare ideas\, tell stories and be a part of our community. \nCheck out the flyer – CLICK HERE\nRegister here: Registration is essential and places are limited\nCLICK HERE TO REGISTER\nDetails to join the zoom meeting will be sent via email on the day to registered participants\nRegistrations close: Sunday 9th August at 9:00pm \nEmail: wa@kodaly.org.au for more info \nConditions: \n\nPlease join the meeting with your microphone muted.\nNo recording of the session\, no sharing of resources without the permission of presenters.\nKodaly WA will check the list of participants before entering the meeting room. Only those that have signed up will be invited into the meeting.
URL:https://kodaly.org.au/event/wa-term-3-online-pd-series/
CATEGORIES:Online Events,WA Events
ATTACH;FMTTYPE=image/png:https://www.kodaly.org.au/wp-content/uploads/2020/08/TeahcMe-Graphic-Smaller.png
ORGANIZER;CN="Kod%C3%A1ly WA Branch":MAILTO:wa@kodaly.org.au
END:VEVENT
BEGIN:VEVENT
DTSTART;TZID=Australia/Brisbane:20200530T093000
DTEND;TZID=Australia/Brisbane:20200530T110000
DTSTAMP:20260421T021711
CREATED:20200518T033505Z
LAST-MODIFIED:20200927T124846Z
UID:4607-1590831000-1590836400@kodaly.org.au
SUMMARY:QLD: Strive and thrive! Fostering independence and empowering musicians of all ages and stages
DESCRIPTION:Maree Hennessy presents an online workshop – Strive and thrive! Fostering independence and empowering musicians of all ages and stages \nCost: $20 Members / $90 Non-Members\n*Non members receive 12 months membership with the registration \nYou will receive a Zoom invitation with the meeting link and password prior to the webinar. \nYou will receive a recording of the session along with your PD certificate. If you cannot attend on the day\, please ensure to register (noting that you are unable to attend) and the recording and certificate can be emailed to you as well. \nTo register CLICK HERE
URL:https://kodaly.org.au/event/qld-strive-and-thrive-fostering-independence-and-empowering-musicians-of-all-ages-and-stages/
CATEGORIES:Online Events
ORGANIZER;CN="Kod%C3%A1ly QLD Branch":MAILTO:info@kodalyqld.org.au
END:VEVENT
BEGIN:VEVENT
DTSTART;TZID=Australia/Brisbane:20200523T093000
DTEND;TZID=Australia/Brisbane:20200523T110000
DTSTAMP:20260421T021711
CREATED:20200512T024655Z
LAST-MODIFIED:20200927T124856Z
UID:4596-1590226200-1590231600@kodaly.org.au
SUMMARY:QLD: Vocal health for returning to the classroom with Wendy Rolls
DESCRIPTION:In amongst all the emails\, video calls and resource-building\, it seems a lifetime since we were singing in our classrooms with our students. So when it’s time to be singing again\, what state will your voice be in? Prolonged voice use after a period of inactivity poses a serious threat to vocal health. This webinar will cover the essentials of voice use and tips to start singing again safely without risking damage. What are the important things to watch for and how can you protect your most valuable asset? \nCost: $20 Members / $90 Non-Members\n*Non members receive 12 months membership with the registration \nRegister Online Here
URL:https://kodaly.org.au/event/qld-vocal-health-for-returning-to-the-classroom-with-wendy-rolls/
CATEGORIES:Online Events,QLD Events
ORGANIZER;CN="Kod%C3%A1ly QLD Branch":MAILTO:info@kodalyqld.org.au
END:VEVENT
BEGIN:VEVENT
DTSTART;TZID=Australia/Brisbane:20200516T090000
DTEND;TZID=Australia/Brisbane:20200516T113000
DTSTAMP:20260421T021711
CREATED:20200512T024416Z
LAST-MODIFIED:20200927T124913Z
UID:4594-1589619600-1589628600@kodaly.org.au
SUMMARY:QLD: Developing Part Singing Skills with Dr. Georgia Newlin
DESCRIPTION:In this online webinar Dr. Georgia Newlin examines the sequential development of part-singing skills in school age musicians to help students acquire the ability to sustain a given voice part in a multipart context. Purposefully identifying\, naming and teaching these techniques produces more singers able to fulfill their potential as self sufficient musicians in a choral setting at any age. \nCost: $20 Members / $90 Non Members\n* Non members receive 12 months membership with their registration \nRegister Online Here
URL:https://kodaly.org.au/event/qld-developing-part-singing-skills-with-dr-georgia-newlin/
CATEGORIES:Online Events,QLD Events
ORGANIZER;CN="Kod%C3%A1ly QLD Branch":MAILTO:info@kodalyqld.org.au
END:VEVENT
BEGIN:VEVENT
DTSTART;TZID=Australia/Perth:20200427T160000
DTEND;TZID=Australia/Perth:20200427T170000
DTSTAMP:20260421T021711
CREATED:20200423T035254Z
LAST-MODIFIED:20200927T124939Z
UID:4524-1588003200-1588006800@kodaly.org.au
SUMMARY:WA: TeachMeet Online
DESCRIPTION:TeachMeet Online\nAn opportunity for music teachers to network and share ideas as we head back into Term 2.\nFree event for Kodály WA Members\nBecome a member today!\nWhat: TeachMeet (Free event for members only!) \nWhen: Monday 27 April 2020\, via Zoom Video Conferencing \nTime: 4:00pm – 5:00pm \nRegister here: Registration is essential and places are limited\nCLICK HERE TO REGISTER\nDetails to join the zoom meeting will be sent via email on the day to registered participants \nRegistrations close: Sunday 26 April at 9:00pm \nEmail: wa@kodaly.org.au  – Please email us for further info or to supply notes for your share activity \nConditions: \n\nAfter you have registered\, if you are intending to share please email us at wa@kodaly.org.au with the activity notes or video you hope to share.\nDuring the meeting\, the host will call upon people to share. Please note that if we run out of time\, your activity might not be selected to be shared.\nNo recording of the session\, no sharing of resources without the permission of individuals.\nKodaly WA will check the list of participants before entering the meeting room. Only those that have signed up will be invited into the meeting.
URL:https://kodaly.org.au/event/wa-teachmeet-online/
CATEGORIES:Online Events,WA Events
ATTACH;FMTTYPE=image/png:https://www.kodaly.org.au/wp-content/uploads/2020/04/kindpng_1140011.png
ORGANIZER;CN="Kod%C3%A1ly WA Branch":MAILTO:wa@kodaly.org.au
END:VEVENT
END:VCALENDAR