BEGIN:VCALENDAR
VERSION:2.0
PRODID:-//Kodály Australia - ECPv6.15.17.1//NONSGML v1.0//EN
CALSCALE:GREGORIAN
METHOD:PUBLISH
X-WR-CALNAME:Kodály Australia
X-ORIGINAL-URL:https://kodaly.org.au
X-WR-CALDESC:Events for Kodály Australia
REFRESH-INTERVAL;VALUE=DURATION:PT1H
X-Robots-Tag:noindex
X-PUBLISHED-TTL:PT1H
BEGIN:VTIMEZONE
TZID:Australia/Brisbane
BEGIN:STANDARD
TZOFFSETFROM:+1000
TZOFFSETTO:+1000
TZNAME:AEST
DTSTART:20120101T000000
END:STANDARD
END:VTIMEZONE
BEGIN:VTIMEZONE
TZID:Australia/Perth
BEGIN:STANDARD
TZOFFSETFROM:+0800
TZOFFSETTO:+0800
TZNAME:AWST
DTSTART:20150101T000000
END:STANDARD
END:VTIMEZONE
BEGIN:VTIMEZONE
TZID:UTC
BEGIN:STANDARD
TZOFFSETFROM:+0000
TZOFFSETTO:+0000
TZNAME:UTC
DTSTART:20150101T000000
END:STANDARD
END:VTIMEZONE
BEGIN:VEVENT
DTSTART;VALUE=DATE:20180101
DTEND;VALUE=DATE:20180113
DTSTAMP:20260424T022942
CREATED:20170709T023703Z
LAST-MODIFIED:20170709T023809Z
UID:1973-1514764800-1515801599@kodaly.org.au
SUMMARY:2018 Summer School Music Program
DESCRIPTION:Presented by The Cuskelly College of Music. \nThis program offers courses for educators\, singers and school students led by national and international experts in their fields. \nThe successful completion of courses in Early Childhood\, Primary and Secondary music classroom education\, and Colour Strings can lead to accreditation for the Australian Kodály Certificate. \nRefer to the Summer Music Program website for more information and registration. http://www.soundthinkingaustralia.com/summerschool/
URL:https://kodaly.org.au/event/2018-summer-school-music-program/
LOCATION:St Aidan’s Anglican Girls’ School\, 11 Ruthven St\, Corinda\, QLD\, 4075\, Australia
CATEGORIES:AKC Courses,Endorsed Events,International Events,National Events,QLD Events
END:VEVENT
BEGIN:VEVENT
DTSTART;VALUE=DATE:20170713
DTEND;VALUE=DATE:20170716
DTSTAMP:20260424T022942
CREATED:20160702T025046Z
LAST-MODIFIED:20160702T025046Z
UID:1422-1499904000-1500163199@kodaly.org.au
SUMMARY:ASME XXI National Conference & 50th Birthday
DESCRIPTION:
URL:https://kodaly.org.au/event/asme-xxi-national-conference-50th-birthday/
LOCATION:Graduate School of Education\, University of Melbourne\, 234 Queensberry Street\, The University of Melbourne\, QLD\, 3010\, Australia
CATEGORIES:Endorsed Events,National Events,VIC Events
END:VEVENT
BEGIN:VEVENT
DTSTART;VALUE=DATE:20170101
DTEND;VALUE=DATE:20170114
DTSTAMP:20260424T022942
CREATED:20160923T150345Z
LAST-MODIFIED:20160923T150345Z
UID:1478-1483228800-1484351999@kodaly.org.au
SUMMARY:2017 Summer School Music Program
DESCRIPTION:Presented by The Cuskelly College of Music. \nThis program offers courses for educators\, singers and school students led by national and international experts in their fields. \nThe successful completion of courses in Early Childhood\, Primary and Secondary music classroom education\, and Colour Strings can lead to accreditation for the Australian Kodály Certificate. \nRefer to the Summer Music Program website for more information and registration. http://www.soundthinkingaustralia.com/summerschool/
URL:https://kodaly.org.au/event/2017-summer-school-music-program/
LOCATION:St Aidan’s Anglican Girls’ School\, 11 Ruthven St\, Corinda\, QLD\, 4075\, Australia
CATEGORIES:AKC Courses,Endorsed Events,International Events,National Events,QLD Events
ATTACH;FMTTYPE=image/jpeg:https://www.kodaly.org.au/wp-content/uploads/2016/09/STA_SS_BBC-web-ad.jpeg
END:VEVENT
BEGIN:VEVENT
DTSTART;VALUE=DATE:20161001
DTEND;VALUE=DATE:20161003
DTSTAMP:20260424T022942
CREATED:20160201T001603Z
LAST-MODIFIED:20160627T111022Z
UID:1157-1475280000-1475452799@kodaly.org.au
SUMMARY:WA: Australian Kodály Certificate Course 2016
DESCRIPTION:Participant checklist available for download. Page updated 27 June 2016. \nHeld over two blocks delivered across the term 2 and term 3 school holidays\, a Primary and Secondary Level 1\, 2 and 3 teacher training course will be running in Perth 2016. \nSuccessful completion will allow participants to complete Level 2 and 3 in subsequent years to fulfil the requirements of the Australian Kodály Certificate. \nClick here to view or download the course brochure. \nDates: \nBlock 1 (8 days):       Saturday 2 July to Sunday 10 July 2016 (day off: Wednesday 6 July) \nBlock 2 (2 days):       Saturday 1 October to Sunday 2 October 2016 \n*Participants must complete the full 10 days to be awarded their Certificate. \nVenue: Presbyterian Ladies’ College\, Perth. 14 McNeil Street\, Peppermint Grove\, Western Australia. \nCourse Lecturers:  Celia Christmass\, Anne Comiskey\, Daniel Crump\, Réka Csernyik\, Dr James Cuskelly\, Tess Laird\, Philippa Roy\, Rosalie Scott\, Kate Thompson \nCourse Coordinator: Jason Boron (akcwa@kodaly.org.au) \n\nView more videos on our YouTube site. \nEnrolment Information \nFor course information\, including costs\, please download the Course Brochure. Prospective participants and KMEIA members are encouraged to take advantage of the significantly discounted super early bird registration. \n\nAKC Perth 2016 Course Brochure (PDF)\n\n\nMusicianship & Conducting Level Placement Guide (PDF) – updated 29/2/2016\n\n\nConsidering completing the AKC? Your questions answered by Jason Boron – Course Coordinator (PDF)\n\n<< CLICK HERE FOR ONLINE REGISTRATION >>\nSingle subject enrolments (Musicianship\, Choir or Conducting) should email akcwa@kodaly.org.au to register. \nPayment can be made upon receipt of invoice (sent after registration has been processed) using one of the following methods: credit card\, direct deposit or cheque. \nScholarship Information \nThe WA Branch is offering up to four scholarships for KMEIA members (who reside in WA) to the value of half the super-early-bird course registration fee. Scholarship applications have now closed. Applicants will be notified shortly regarding the outcome of their application. \nKMEIA WA AKC 2016 Scholarship information and application form. \n*KMEIA members not successful in their application for a scholarship will be offered registration at the discounted super-early-bird rate. \n \nInformation for Enrolled Participants \nCourse outlines and song materials\, and final check list will be uploaded during March 2016. \nParticipants are strongly urged to read further information about the Australian Kodály Certificate in Music Education. \nHousekeeping: \n\nFinal  Checklist – Getting ready for the Perth AKC Course 2016 (updated 27 June 2016)\n\n\nLetter to Level 1 participants\nLetter to Level 2 and 3 (returning) participants\n\n\nDaily Timetable (updated 26 June 2016)\n\n\nTextbook order form. Set texts are required to complete course requirements. Recommended texts provide supplementary information but are not required to complete the course.  Sound Thinking Australia is our recommended reseller. Please note that the KMEIA QLD DVDs Musical Beginnings and Music in the Middle Years will be on sale during the AKC course.\n\n\nParking information (updated 27 June 2016)\n\n\nAccommodation suggestions and public transport information\n\nCourse Outlines \n\nPrimary 1 Methodology\, Teaching Techniques and Cultural Materials\nPrimary 2 Methodology\, Teaching Techniques\, Cultural Materials\nPrimary 3 Methodology\, Teaching Techniques\, Cultural Materials\nSecondary 1 Methodology\, Teaching Techniques\, Cultural Materials\nSecondary 2 Methodology\, Teaching Techniques\, Cultural Materials\nSecondary 3 Methodology\, Teaching Techniques\, Cultural Materials\n\n\nMusicianship Level 1-3\nMusicianship Level 4\nMusicianship Level 5\nMusicianship Level 6\nMusicianship Level 7\n\n\nConducting Level 1-2\nConducting Level 3\nConducting Level 4\nConducting Level 5\nConducting Level 6\n\n\nChoir (Extension Studies)\n\nSong Collections \nPlease note that the Song Collections for Primary and Secondary Level 3 will be uploaded during April 2016. \n\nCore Song Collection Primary 1\nCore Song Collection Primary 2\nCore Song Collection Primary 3\nCore Song Collection Secondary 1\nCore Song Collection Secondary 2 (provided with permission by Sound Thinking Australia)\nCore Song Collection Secondary 3 (provided with permission by Sound Thinking Australia)\n\n\nBlank Song Analysis Template PDF\nBlank Song Analysis Template Microsoft Word\n\nConducting Repertoire \nConducting repertoire will be distributed in class on day 1 of the course. \nOther \n\nBlank Manuscript Paper\nAKC Course 2016 pre-brochure flyer
URL:https://kodaly.org.au/event/wa-australian-kodaly-certificate-course-2016-2/
LOCATION:Presbyterian Ladies College
CATEGORIES:AKC Courses,National Events,WA Events
ORGANIZER;CN="Kod%C3%A1ly WA Branch":MAILTO:wa@kodaly.org.au
END:VEVENT
BEGIN:VEVENT
DTSTART;VALUE=DATE:20160926
DTEND;VALUE=DATE:20160930
DTSTAMP:20260424T022942
CREATED:20151211T011420Z
LAST-MODIFIED:20160122T223639Z
UID:470-1474848000-1475193599@kodaly.org.au
SUMMARY:National Kodály Conference 2016
DESCRIPTION:For more information please visit the conference website. \nhttp://www.kodalynationalconference.org.au/ \n \n 
URL:https://kodaly.org.au/event/national-kodaly-conference-2016/
LOCATION:All Hallows’ School\, 547 Ann St\, Fortitude Valley\, QLD\, 4006\, Australia
CATEGORIES:International Events,National Events,QLD Events
ORGANIZER;CN="Kod%C3%A1ly QLD Branch":MAILTO:info@kmeiaqueensland.com.au
END:VEVENT
BEGIN:VEVENT
DTSTART;VALUE=DATE:20160702
DTEND;VALUE=DATE:20160711
DTSTAMP:20260424T022942
CREATED:20160201T000930Z
LAST-MODIFIED:20160627T110946Z
UID:1151-1467417600-1468195199@kodaly.org.au
SUMMARY:WA: Australian Kodály Certificate Course 2016
DESCRIPTION:Participant checklist available for download. Page updated 27 June 2016. \nHeld over two blocks delivered across the term 2 and term 3 school holidays\, a Primary and Secondary Level 1\, 2 and 3 teacher training course will be running in Perth 2016. \nSuccessful completion will allow participants to complete Level 2 and 3 in subsequent years to fulfil the requirements of the Australian Kodály Certificate. \nClick here to view or download the course brochure. \nDates: \nBlock 1 (8 days):       Saturday 2 July to Sunday 10 July 2016 (day off: Wednesday 6 July) \nBlock 2 (2 days):       Saturday 1 October to Sunday 2 October 2016 \n*Participants must complete the full 10 days to be awarded their Certificate. \nVenue: Presbyterian Ladies’ College\, Perth. 14 McNeil Street\, Peppermint Grove\, Western Australia. \nCourse Lecturers:  Celia Christmass\, Anne Comiskey\, Daniel Crump\, Réka Csernyik\, Dr James Cuskelly\, Tess Laird\, Philippa Roy\, Rosalie Scott\, Kate Thompson \nCourse Coordinator: Jason Boron (akcwa@kodaly.org.au) \n\nView more videos on our YouTube site. \nEnrolment Information \nFor course information\, including costs\, please download the Course Brochure. Prospective participants and KMEIA members are encouraged to take advantage of the significantly discounted super early bird registration. \n\nAKC Perth 2016 Course Brochure (PDF)\n\n\nMusicianship & Conducting Level Placement Guide (PDF) – updated 29/2/2016\n\n\nConsidering completing the AKC? Your questions answered by Jason Boron – Course Coordinator (PDF)\n\n<< CLICK HERE FOR ONLINE REGISTRATION >>\nSingle subject enrolments (Musicianship\, Choir or Conducting) should email akcwa@kodaly.org.au to register. \nPayment can be made upon receipt of invoice (sent after registration has been processed) using one of the following methods: credit card\, direct deposit or cheque. \nScholarship Information \nThe WA Branch is offering up to four scholarships for KMEIA members (who reside in WA) to the value of half the super-early-bird course registration fee. Scholarship applications have now closed. Applicants will be notified shortly regarding the outcome of their application. \nKMEIA WA AKC 2016 Scholarship information and application form. \n*KMEIA members not successful in their application for a scholarship will be offered registration at the discounted super-early-bird rate. \n \nInformation for Enrolled Participants \nCourse outlines and song materials\, and final check list will be uploaded during March 2016. \nParticipants are strongly urged to read further information about the Australian Kodály Certificate in Music Education. \nHousekeeping: \n\nFinal  Checklist – Getting ready for the Perth AKC Course 2016 (updated 27 June 2016)\n\n\nLetter to Level 1 participants\nLetter to Level 2 and 3 (returning) participants\n\n\nDaily Timetable (updated 26 June 2016)\n\n\nTextbook order form. Set texts are required to complete course requirements. Recommended texts provide supplementary information but are not required to complete the course.  Sound Thinking Australia is our recommended reseller. Please note that the KMEIA QLD DVDs Musical Beginnings and Music in the Middle Years will be on sale during the AKC course.\n\n\nParking information (updated 27 June 2016)\n\n\nAccommodation suggestions and public transport information\n\nCourse Outlines \n\nPrimary 1 Methodology\, Teaching Techniques and Cultural Materials\nPrimary 2 Methodology\, Teaching Techniques\, Cultural Materials\nPrimary 3 Methodology\, Teaching Techniques\, Cultural Materials\nSecondary 1 Methodology\, Teaching Techniques\, Cultural Materials\nSecondary 2 Methodology\, Teaching Techniques\, Cultural Materials\nSecondary 3 Methodology\, Teaching Techniques\, Cultural Materials\n\n\nMusicianship Level 1-3\nMusicianship Level 4\nMusicianship Level 5\nMusicianship Level 6\nMusicianship Level 7\n\n\nConducting Level 1-2\nConducting Level 3\nConducting Level 4\nConducting Level 5\nConducting Level 6\n\n\nChoir (Extension Studies)\n\nSong Collections \nPlease note that the Song Collections for Primary and Secondary Level 3 will be uploaded during April 2016. \n\nCore Song Collection Primary 1\nCore Song Collection Primary 2\nCore Song Collection Primary 3\nCore Song Collection Secondary 1\nCore Song Collection Secondary 2 (provided with permission by Sound Thinking Australia)\nCore Song Collection Secondary 3 (provided with permission by Sound Thinking Australia)\n\n\nBlank Song Analysis Template PDF\nBlank Song Analysis Template Microsoft Word\n\nConducting Repertoire \nConducting repertoire will be distributed in class on day 1 of the course. \nOther \n\nBlank Manuscript Paper\nAKC Course 2016 pre-brochure flyer
URL:https://kodaly.org.au/event/wa-australian-kodaly-certificate-course-2016/
LOCATION:Presbyterian Ladies College
CATEGORIES:AKC Courses,National Events,WA Events
END:VEVENT
BEGIN:VEVENT
DTSTART;TZID=Australia/Brisbane:20160218T190000
DTEND;TZID=Australia/Brisbane:20160218T193000
DTSTAMP:20260424T022942
CREATED:20160122T213947Z
LAST-MODIFIED:20160129T151151Z
UID:1054-1455822000-1455823800@kodaly.org.au
SUMMARY:Annual General Meeting
DESCRIPTION:Thursday 18th February 2016\n7.00pm in NSW\, VIC\, ACT; 6.00pm in QLD; 6.30pm in SA; 4.00pm in WA \nMembers are invited by the national Council of the Kodály Music Education Institute of Australia Incorporated (KMEIA Inc) to attend the 2016 Annual General Meeting (AGM) of the Institute. \nThe meeting will be held as a ‘Self Managed Webinar’ conducted by Redback Conferencing and you are warmly invited to participate from your web-connected computer.  See  http://www.redbackconferencing.com.au/  . The meeting will be no longer than 30 minutes. \nThe meeting will include KMEIA’s biennial election of the national Council. \nMembers please check your email for further information about the meeting and how you can join the meeting from your home or office computer.  The notice will also include the Agenda\, the President’s Report and the Audited Financial Statement\, along with all the details for the election of the Council.
URL:https://kodaly.org.au/event/annual-general-meeting/
LOCATION:Online\, Australia
CATEGORIES:National Events
END:VEVENT
BEGIN:VEVENT
DTSTART;VALUE=DATE:20160103
DTEND;VALUE=DATE:20160116
DTSTAMP:20260424T022942
CREATED:20151210T230946Z
LAST-MODIFIED:20160125T093028Z
UID:373-1451779200-1452902399@kodaly.org.au
SUMMARY:2016 Summer Music Program
DESCRIPTION:Presented by Sound Thinking Australia and the Cuskelly College of Music. \nThis program offers courses educators\, singers and school students lead by national and international leaders in their fields. \nThe successful completion of courses in Early Childhood\, Primary and Secondary music classroom education can lead to accreditation for the Australian Kodály Certificate. \nRefer to the Summer Music Program website for more information and registration. http://www.soundthinkingaustralia.com/summerschool/
URL:https://kodaly.org.au/event/2016-summer-music-program/
LOCATION:St Aidan’s Anglican Girls’ School\, 11 Ruthven St\, Corinda\, QLD\, 4075\, Australia
CATEGORIES:AKC Courses,Endorsed Events,International Events,National Events,QLD Events
ATTACH;FMTTYPE=image/jpeg:https://www.kodaly.org.au/wp-content/uploads/2015/12/ad-ccm-ss-2016.jpg
END:VEVENT
BEGIN:VEVENT
DTSTART;TZID=Australia/Brisbane:20150320T190000
DTEND;TZID=Australia/Brisbane:20150320T193000
DTSTAMP:20260424T022942
CREATED:20151210T231542Z
LAST-MODIFIED:20160122T084527Z
UID:467-1426878000-1426879800@kodaly.org.au
SUMMARY:KMEIA National Annual General Meeting
DESCRIPTION:Notice of Annual General Meeting\, Webinar March 2015 \nDate: Friday 20th March 2015 \nTime: 7.00pm in NSW\,VIC and ACT\, 6.00pm in QLD\,6.30pm in SA and 4.00pm in WA \nPlease register for the Webinar HERE by 5pm Wednesday 11 March 2015. \nInstructions for joining the Webinar from your computer will be sent by Redback Conferencing to those who register for the AGM.
URL:https://kodaly.org.au/event/nsw-spring-into-music-for-babies-and-toddlers/
LOCATION:Abbotleigh Junior School – Upper Music Room\, 22 Woonona Avenue\, WAHROONGA\, NSW\, Australia
CATEGORIES:National Events
END:VEVENT
BEGIN:VEVENT
DTSTART;TZID=Australia/Brisbane:20150104T080000
DTEND;TZID=Australia/Brisbane:20150116T170000
DTSTAMP:20260424T022942
CREATED:20160107T085543Z
LAST-MODIFIED:20160125T095742Z
UID:740-1420358400-1421427600@kodaly.org.au
SUMMARY:2015 Summer School Music Program
DESCRIPTION:Please note the venue change.  \nPresented by Sound Thinking Australia and the Cuskelly College of Music. \nThis program offers courses educators\, singers and school students lead by national and international leaders in their fields. \nThe successful completion of courses in Early Childhood\, Primary and Secondary music classroom education can lead to accreditation for the Australian Kodály Certificate.  \nRefer to the Summer Music Program website for more information and registration. http://www.soundthinkingaustralia.com/summerschool/
URL:https://kodaly.org.au/event/2015-summer-school-music-program/
LOCATION:St Aidan’s Anglican Girls’ School\, 11 Ruthven St\, Corinda\, QLD\, 4075\, Australia
CATEGORIES:AKC Courses,Endorsed Events,International Events,National Events,QLD Events
END:VEVENT
BEGIN:VEVENT
DTSTART;TZID=Australia/Brisbane:20140929T080000
DTEND;TZID=Australia/Brisbane:20141002T170000
DTSTAMP:20260424T022942
CREATED:20160111T120525Z
LAST-MODIFIED:20160112T051707Z
UID:839-1411977600-1412269200@kodaly.org.au
SUMMARY:KMEIA 2014 National Conference - Bridging the Gap
DESCRIPTION:Visit the KMEIA 2014 National Conference Website for information and registration. \nhttp://www.kodaly2014.org.au
URL:https://kodaly.org.au/event/kmeia-2014-national-conference-bridging-the-gap-2/
LOCATION:Ascham School
CATEGORIES:National Events,NSW Events
END:VEVENT
BEGIN:VEVENT
DTSTART;TZID=Australia/Brisbane:20140105T080000
DTEND;TZID=Australia/Brisbane:20140117T170000
DTSTAMP:20260424T022942
CREATED:20160107T101838Z
LAST-MODIFIED:20160125T101814Z
UID:805-1388908800-1389978000@kodaly.org.au
SUMMARY:2014 Summer Music Program
DESCRIPTION:Presented by Sound Thinking Australia and the Cuskelly College of Music. \nA variety of courses offered by national and international leaders in their fields. Courses in Early Childhood\, Primary and Secondary music classroom education can lead to accreditation for the Australian Kodaly Certificate. \nSound Thinking Australia and the Cuskelly College of Music are excited to be introducing some new courses in the 2014 Summer Music Program. \nRefer to the Summer Music Program website for more information and registration. http://www.soundthinkingaustralia.com/summerschool/
URL:https://kodaly.org.au/event/2014-summer-music-program/
LOCATION:All Hallows’ School\, 547 Ann St\, Fortitude Valley\, QLD\, 4006\, Australia
CATEGORIES:AKC Courses,International Events,National Events,QLD Events
END:VEVENT
BEGIN:VEVENT
DTSTART;TZID=Australia/Brisbane:20130929T080000
DTEND;TZID=Australia/Brisbane:20131001T170000
DTSTAMP:20260424T022942
CREATED:20160107T103727Z
LAST-MODIFIED:20160112T052638Z
UID:819-1380441600-1380646800@kodaly.org.au
SUMMARY:ASME 2013 National Conference
DESCRIPTION:Redefining the musical landscape: Inspired learning and innovation in music education\nFor more information visit www.asme2013.com.au
URL:https://kodaly.org.au/event/asme-2013-national-conference/
LOCATION:Hotel Tealm
CATEGORIES:ACT Events,AKC Courses,Endorsed Events,National Events
END:VEVENT
BEGIN:VEVENT
DTSTART;TZID=Australia/Brisbane:20130630T083000
DTEND;TZID=Australia/Brisbane:20130703T163000
DTSTAMP:20260424T022942
CREATED:20160107T104648Z
LAST-MODIFIED:20160125T102240Z
UID:829-1372581000-1372869000@kodaly.org.au
SUMMARY:Musicianship & Conducting
DESCRIPTION:Teachers will gain confidence in their own musicianship ability whilst learning great conducting tools and strategies to lead ensembles\, develop young voices\, and guide students toward a sequential music symbol system. \nLecturers: David Banney\, Aleta King and Brownyn Irvine \nCOST: \nMembers: $520.00\nNon-Members: $660 (includes 1 year Membership)\nStudent/Concession: $340 \nCONDUCTING MUSICIANSHIP Flyer 2013
URL:https://kodaly.org.au/event/musicianship-conducting/
LOCATION:Music Department\, Barkat College
CATEGORIES:AKC Courses,National Events,NSW Events
ORGANIZER;CN="Dearne Kinmont":MAILTO:nsw@kodaly.org.au
END:VEVENT
BEGIN:VEVENT
DTSTART;TZID=Australia/Brisbane:20130628T093000
DTEND;TZID=Australia/Brisbane:20130628T113000
DTSTAMP:20260424T022942
CREATED:20160107T104821Z
LAST-MODIFIED:20160112T052854Z
UID:831-1372411800-1372419000@kodaly.org.au
SUMMARY:Music In Your Classroom - An Introduction to Kodaly ES1/S1                                        Registrations: nsw@kodaly.org.au
DESCRIPTION:REGISTRATIONS: EMAIL nsw@kodaly.org.au \nSee how a sequential\, developmental music program can be integrated into your day. Take home ideas for musical lesson breaks\, singing games\, and more. No prior music knowledge required.This session provides classroom teachers with easy to use ideas for incorporating music throughout the day in your classroom. Make use of the percussion and sound makers you have at hand\, add some movement and create some simple but effective assembly items. \nPresented by: \nJulie Logan is an experienced classroom practitioner and lecturer in music education. Julie has lectured at the University of Newcastle and for the Australian Kodaly Certificate courses in Sydney and has presented papers at national and international conferences on music education. Julie supports teachers across Australia in developing music programs that are inclusive\, challenging and engaging. \nJane Porst holds the Australian Kodaly Certificate in Early Childhood Music Education and is a music consultant at Old Bar PS\, the Mid North Coast Conservatorium of Music and runs a busy private voice studio. \nCost:\nMembers: $55.00\nNon-members: $70.00 \nEarly bird registrations have now closed for this event\nConcession: $35 (Pensioners and full time students) \nContact Information\nENQUIRIES: Julie Logan Ph: 4963 2026 \nREGISTRATIONS: Rose Bloom H: 02 9713 9235 or M: 0431 213 056
URL:https://kodaly.org.au/event/music-in-your-classroom-an-introduction-to-kodaly-es1s1-registrations-nswkodaly-org-au/
LOCATION:Old Bar Public School
CATEGORIES:National Events,NSW Events
ORGANIZER;CN="Julie Logan":MAILTO:nsw@kodaly.org.au
END:VEVENT
END:VCALENDAR